BEGIN:VCALENDAR
VERSION:2.0
PRODID:-//Aldo Leopold Nature Center - ECPv4.8.2//NONSGML v1.0//EN
CALSCALE:GREGORIAN
METHOD:PUBLISH
X-WR-CALNAME:Aldo Leopold Nature Center
X-ORIGINAL-URL:https://aldoleopoldnaturecenter.org
X-WR-CALDESC:Events for Aldo Leopold Nature Center
BEGIN:VEVENT
DTSTART;TZID=America/Chicago:20260110T163000
DTEND;TZID=America/Chicago:20260110T190000
DTSTAMP:20260422T022656
CREATED:20161108T173158Z
LAST-MODIFIED:20260105T190746Z
UID:9556-1768062600-1768071600@aldoleopoldnaturecenter.org
SUMMARY:Candlelight Hike
DESCRIPTION:Hundreds of softly glowing lights illuminate the trails of Aldo Leopold Nature Center and Edna Taylor Conservancy.\nJoin us for a hike and enjoy a roaring bonfire!\nIn partnership with Madison Parks\, all ages and abilities are welcome to this family-friendly event! Warm up by a roaring bonfire\, enjoy hot beverages\, roast s’mores\, and grab a bite from food carts on site including Tom’s Traveling Coffee\, Donut NV\, Jakarta BBQ Station\, Tacos El Cucuy\, and Runnin’ on Empty. Indoor restrooms will be available throughout the evening. \nIf there’s snow\, you can bring your own snowshoes or borrow a pair (for free) to use during the event. Food carts available on site! \n\nCome one\, come all… No pre-registration is required!  \nThis is a FREE event with FREE parking and a FREE shuttle from the Ahuska Park parking lot (400 E. Broadway). \nPARKING: Free shuttle service and free parking at Ahuska Park. Parking\, without shuttle service\, may be available along Femrite Drive\, Roselawn Drive\, and Edna Taylor Parkway. Parking map found here. \nFor more information\, please call: 608-221-0404 x 0. \n  \nPhotos courtesy of Greg Dixon Photography. \nA photographer may be onsite to document this event. If you would not like your photo taken\, please advise the photographer. Thank you! \n  \nWith appreciation to our 2026 partners who make programs like this possible!\nIf you are interested in partnering with us\, please contact Lizzie Condon at lizzie@aldoleopoldnaturecenter.org. \n  \nEvent Partners\n \n    \n  \nMedia Partners\n  \n  \nWondering about lodging?\nCountry Inn & Suites\, AVID Hotel\, and AmericInn are all located within 1.5 miles from the Aldo Leopold Nature Center. \nCountry Inn & Suites has a shuttle. \n   \n  \nInterested in a place more home-y?\nCheck out the AirBnB\, and Verbo rentals in Monona. \n  \n  \n
URL:https://aldoleopoldnaturecenter.org/event/candlelight-hike/
LOCATION:Aldo Leopold Nature Center | Monona Campus\, 330 Femrite Drive\, Monona\, 53716\, United States
CATEGORIES:Drop-In Programs,Family Activity,Public Programs
ATTACH;FMTTYPE=image/jpeg:https://aldoleopoldnaturecenter.org/wp-content/uploads/candlelit_homepage.jpg
ORGANIZER;CN="Aldo%20Leopold%20Nature%20Center":MAILTO:alnc@aldoleopoldnaturecenter.org
END:VEVENT
END:VCALENDAR